BEGIN:VCALENDAR
VERSION:2.0
X-WR-CALNAME:SIOG 235 (A00) - Computational Inverse Problems
METHOD:PUBLISH
BEGIN:VEVENT
ORGANIZER:
DTSTART:20240318T183000Z
DTEND:20240318T212900Z
LOCATION: TBA
UID:320260423T224250Z
DTSTAMP:20260423T224250Z
SUMMARY:SIOG 235 (A00) (FI)
DESCRIPTION:
PRIORITY:5
CLASS:PUBLIC
END:VEVENT
END:VCALENDAR