BEGIN:VCALENDAR
VERSION:2.0
X-WR-CALNAME:ECE 276A (A00) - Sensing & Estimation Robotics
METHOD:PUBLISH
BEGIN:VEVENT
ORGANIZER:
DTSTART:20210316T020000Z
DTEND:20210316T045900Z
LOCATION: TBA
UID:220260423T224649Z
DTSTAMP:20260423T224649Z
SUMMARY:ECE 276A (A00) (FI)
DESCRIPTION:
PRIORITY:5
CLASS:PUBLIC
END:VEVENT
END:VCALENDAR