BEGIN:VCALENDAR
VERSION:2.0
X-WR-CALNAME:COGS 163 (A00) - Metabolic Disorders/Brain
METHOD:PUBLISH
BEGIN:VEVENT
ORGANIZER:
DTSTART:20240321T220000Z
DTEND:20240322T005900Z
LOCATION: TBA
UID:420260424T000207Z
DTSTAMP:20260424T000207Z
SUMMARY:COGS 163 (A00) (FI)
DESCRIPTION:
PRIORITY:5
CLASS:PUBLIC
END:VEVENT
END:VCALENDAR