BEGIN:VCALENDAR
VERSION:2.0
X-WR-CALNAME:INTL 102 (A00) - Econ, Politics & Intn'l Change
METHOD:PUBLISH
BEGIN:VEVENT
ORGANIZER:
DTSTART:20210316T150000Z
DTEND:20210316T180000Z
LOCATION: TBA
UID:1020260423T221630Z
DTSTAMP:20260423T221630Z
SUMMARY:INTL 102 (A00) (FI)
DESCRIPTION:
PRIORITY:5
CLASS:PUBLIC
END:VEVENT
END:VCALENDAR