BEGIN:VCALENDAR
VERSION:2.0
X-WR-CALNAME:ENVR 141 (A00) - Wilderness & HumanValue Worksh
METHOD:PUBLISH
BEGIN:VEVENT
ORGANIZER:
DTSTART:20260317T183000Z
DTEND:20260317T212900Z
LOCATION: TBA
UID:220260423T231638Z
DTSTAMP:20260423T231638Z
SUMMARY:ENVR 141 (A00) (FI)
DESCRIPTION:
PRIORITY:5
CLASS:PUBLIC
END:VEVENT
END:VCALENDAR