BEGIN:VCALENDAR
VERSION:2.0
X-WR-CALNAME:ETHN 117 (A00) - Organic Social Movements
METHOD:PUBLISH
BEGIN:VEVENT
ORGANIZER:
DTSTART:20231216T030000Z
DTEND:20231216T055900Z
LOCATION: TBA
UID:220260423T234137Z
DTSTAMP:20260423T234137Z
SUMMARY:ETHN 117 (A00) (FI)
DESCRIPTION:
PRIORITY:5
CLASS:PUBLIC
END:VEVENT
END:VCALENDAR