BEGIN:VCALENDAR
VERSION:2.0
X-WR-CALNAME:VIS 30 (A00) - Intro to Speculative Design
METHOD:PUBLISH
BEGIN:VEVENT
ORGANIZER:
DTSTART:20231213T160000Z
DTEND:20231213T185900Z
LOCATION: TBA
UID:620260423T235852Z
DTSTAMP:20260423T235852Z
SUMMARY:VIS 30 (A00) (FI)
DESCRIPTION:
PRIORITY:5
CLASS:PUBLIC
END:VEVENT
END:VCALENDAR