BEGIN:VCALENDAR
VERSION:2.0
X-WR-CALNAME:CSE 21 (A00) - Math/Algorithm&Systems Analys
METHOD:PUBLISH
BEGIN:VEVENT
ORGANIZER:
DTSTART:20231109T030000Z
DTEND:20231109T045000Z
LOCATION:GH 242
UID:620260423T224757Z
DTSTAMP:20260423T224757Z
SUMMARY:CSE 21 (A00) (MI)
DESCRIPTION:
PRIORITY:5
CLASS:PUBLIC
END:VEVENT
BEGIN:VEVENT
ORGANIZER:
DTSTART:20231214T193000Z
DTEND:20231214T222900Z
LOCATION: TBA
UID:720260423T224757Z
DTSTAMP:20260423T224757Z
SUMMARY:CSE 21 (A00) (FI)
DESCRIPTION:
PRIORITY:5
CLASS:PUBLIC
END:VEVENT
END:VCALENDAR