BEGIN:VCALENDAR
VERSION:2.0
X-WR-CALNAME:PHYS 212A (A00) - Quantum Mechanics I
METHOD:PUBLISH
BEGIN:VEVENT
ORGANIZER:
DTSTART:20231214T230000Z
DTEND:20231215T015900Z
LOCATION: TBA
UID:320260423T235812Z
DTSTAMP:20260423T235812Z
SUMMARY:PHYS 212A (A00) (FI)
DESCRIPTION:
PRIORITY:5
CLASS:PUBLIC
END:VEVENT
END:VCALENDAR