BEGIN:VCALENDAR
VERSION:2.0
X-WR-CALNAME:LTCS 141 (A00) - Topics/Race and Empire
METHOD:PUBLISH
BEGIN:VEVENT
ORGANIZER:
DTSTART:20260320T150000Z
DTEND:20260320T175900Z
LOCATION: TBA
UID:220260423T234130Z
DTSTAMP:20260423T234130Z
SUMMARY:LTCS 141 (A00) (FI)
DESCRIPTION:
PRIORITY:5
CLASS:PUBLIC
END:VEVENT
END:VCALENDAR