BEGIN:VCALENDAR
VERSION:2.0
X-WR-CALNAME:LIGN 215 (A00) - Topics In Phonology
METHOD:PUBLISH
BEGIN:VEVENT
ORGANIZER:
DTSTART:20260316T220000Z
DTEND:20260317T005900Z
LOCATION: TBA
UID:220260423T202910Z
DTSTAMP:20260423T202910Z
SUMMARY:LIGN 215 (A00) (FI)
DESCRIPTION:
PRIORITY:5
CLASS:PUBLIC
END:VEVENT
END:VCALENDAR