BEGIN:VCALENDAR
VERSION:2.0
X-WR-CALNAME:SIO 132 (A00) - Introduction to Marine Biology
METHOD:PUBLISH
BEGIN:VEVENT
ORGANIZER:
DTSTART:20231214T160000Z
DTEND:20231214T185900Z
LOCATION: TBA
UID:920260423T234740Z
DTSTAMP:20260423T234740Z
SUMMARY:SIO 132 (A00) (FI)
DESCRIPTION:
PRIORITY:5
CLASS:PUBLIC
END:VEVENT
END:VCALENDAR