BEGIN:VCALENDAR
VERSION:2.0
X-WR-CALNAME:HUM 3 (B00) - Renaissance,Reform&Early Europ
METHOD:PUBLISH
BEGIN:VEVENT
ORGANIZER:
DTSTART:20231215T160000Z
DTEND:20231215T185900Z
LOCATION: TBA
UID:1020260423T235026Z
DTSTAMP:20260423T235026Z
SUMMARY:HUM 3 (B00) (FI)
DESCRIPTION:
PRIORITY:5
CLASS:PUBLIC
END:VEVENT
END:VCALENDAR