BEGIN:VCALENDAR
VERSION:2.0
X-WR-CALNAME:POLI 30D (A00) - Political Inquiry
METHOD:PUBLISH
BEGIN:VEVENT
ORGANIZER:
DTSTART:20231214T193000Z
DTEND:20231214T222900Z
LOCATION: TBA
UID:820260424T000114Z
DTSTAMP:20260424T000114Z
SUMMARY:POLI 30D (A00) (FI)
DESCRIPTION:
PRIORITY:5
CLASS:PUBLIC
END:VEVENT
END:VCALENDAR