BEGIN:VCALENDAR
VERSION:2.0
X-WR-CALNAME:MATH 250A (A00) - Differential Geometry
METHOD:PUBLISH
BEGIN:VEVENT
ORGANIZER:
DTSTART:20231211T230000Z
DTEND:20231212T015900Z
LOCATION: TBA
UID:220260423T220250Z
DTSTAMP:20260423T220250Z
SUMMARY:MATH 250A (A00) (FI)
DESCRIPTION:
PRIORITY:5
CLASS:PUBLIC
END:VEVENT
END:VCALENDAR