BEGIN:VCALENDAR
VERSION:2.0
X-WR-CALNAME:LISP 1DX (E00) - Analysis of Spanish
METHOD:PUBLISH
BEGIN:VEVENT
ORGANIZER:
DTSTART:20231210T030000Z
DTEND:20231210T055900Z
LOCATION: TBA
UID:220260423T232652Z
DTSTAMP:20260423T232652Z
SUMMARY:LISP 1DX (E00) (FI)
DESCRIPTION:
PRIORITY:5
CLASS:PUBLIC
END:VEVENT
END:VCALENDAR