BEGIN:VCALENDAR
VERSION:2.0
X-WR-CALNAME:GPPS 456 (A00) - Evaluating Social Programs
METHOD:PUBLISH
BEGIN:VEVENT
ORGANIZER:
DTSTART:20260611T150000Z
DTEND:20260611T180000Z
LOCATION: TBA
UID:220260424T001241Z
DTSTAMP:20260424T001241Z
SUMMARY:GPPS 456 (A00) (FI)
DESCRIPTION:
PRIORITY:5
CLASS:PUBLIC
END:VEVENT
END:VCALENDAR