BEGIN:VCALENDAR
VERSION:2.0
X-WR-CALNAME:DSC 10 (B00) - Principles of Data Science
METHOD:PUBLISH
BEGIN:VEVENT
ORGANIZER:
DTSTART:20231210T030000Z
DTEND:20231210T055900Z
LOCATION: TBA
UID:420260423T231749Z
DTSTAMP:20260423T231749Z
SUMMARY:DSC 10 (B00) (FI)
DESCRIPTION:
PRIORITY:5
CLASS:PUBLIC
END:VEVENT
END:VCALENDAR