BEGIN:VCALENDAR
VERSION:2.0
X-WR-CALNAME:HIEA 112 (A00) - Japan:Mid-19th C.-US Occupatn
METHOD:PUBLISH
BEGIN:VEVENT
ORGANIZER:
DTSTART:20231212T160000Z
DTEND:20231212T185900Z
LOCATION: TBA
UID:220260424T001841Z
DTSTAMP:20260424T001841Z
SUMMARY:HIEA 112 (A00) (FI)
DESCRIPTION:
PRIORITY:5
CLASS:PUBLIC
END:VEVENT
END:VCALENDAR