BEGIN:VCALENDAR
VERSION:2.0
X-WR-CALNAME:FMPH 40 (B00) - Introduction to Public Health
METHOD:PUBLISH
BEGIN:VEVENT
ORGANIZER:
DTSTART:20231211T230000Z
DTEND:20231212T015900Z
LOCATION: TBA
UID:220260423T235852Z
DTSTAMP:20260423T235852Z
SUMMARY:FMPH 40 (B00) (FI)
DESCRIPTION:
PRIORITY:5
CLASS:PUBLIC
END:VEVENT
END:VCALENDAR