BEGIN:VCALENDAR
VERSION:2.0
X-WR-CALNAME:MATH 185 (A00) - Intro to Computational Stats
METHOD:PUBLISH
BEGIN:VEVENT
ORGANIZER:
DTSTART:20201214T230000Z
DTEND:20201215T015900Z
LOCATION: TBA
UID:620260423T223643Z
DTSTAMP:20260423T223643Z
SUMMARY:MATH 185 (A00) (FI)
DESCRIPTION:
PRIORITY:5
CLASS:PUBLIC
END:VEVENT
END:VCALENDAR