BEGIN:VCALENDAR
VERSION:2.0
X-WR-CALNAME:CHEM 43A (A00) - Organic Chemistry Laboratory
METHOD:PUBLISH
BEGIN:VEVENT
ORGANIZER:
DTSTART:20201107T180000Z
DTEND:20201107T185000Z
LOCATION:RCLAS R05
UID:1720260423T223326Z
DTSTAMP:20260423T223326Z
SUMMARY:CHEM 43A (A00) (MI)
DESCRIPTION:
PRIORITY:5
CLASS:PUBLIC
END:VEVENT
BEGIN:VEVENT
ORGANIZER:
DTSTART:20201216T160000Z
DTEND:20201216T185900Z
LOCATION: TBA
UID:1820260423T223326Z
DTSTAMP:20260423T223326Z
SUMMARY:CHEM 43A (A00) (FI)
DESCRIPTION:
PRIORITY:5
CLASS:PUBLIC
END:VEVENT
END:VCALENDAR