BEGIN:VCALENDAR
VERSION:2.0
X-WR-CALNAME:ETHN 109 (A00) - Race & Social Movements
METHOD:PUBLISH
BEGIN:VEVENT
ORGANIZER:
DTSTART:20230909T183000Z
DTEND:20230909T212900Z
LOCATION: TBA
UID:220260424T003254Z
DTSTAMP:20260424T003254Z
SUMMARY:ETHN 109 (A00) (FI)
DESCRIPTION:
PRIORITY:5
CLASS:PUBLIC
END:VEVENT
END:VCALENDAR