BEGIN:VCALENDAR
VERSION:2.0
X-WR-CALNAME:MATH 109 (B00) - Mathematical Reasoning
METHOD:PUBLISH
BEGIN:VEVENT
ORGANIZER:
DTSTART:20230806T020000Z
DTEND:20230806T045900Z
LOCATION: TBA
UID:520260423T234137Z
DTSTAMP:20260423T234137Z
SUMMARY:MATH 109 (B00) (FI)
DESCRIPTION:
PRIORITY:5
CLASS:PUBLIC
END:VEVENT
END:VCALENDAR