BEGIN:VCALENDAR
VERSION:2.0
X-WR-CALNAME:SOCI 160 (A00) - Sociology of Culture
METHOD:PUBLISH
BEGIN:VEVENT
ORGANIZER:
DTSTART:20260611T220000Z
DTEND:20260612T005900Z
LOCATION: TBA
UID:220260424T003254Z
DTSTAMP:20260424T003254Z
SUMMARY:SOCI 160 (A00) (FI)
DESCRIPTION:
PRIORITY:5
CLASS:PUBLIC
END:VEVENT
END:VCALENDAR