BEGIN:VCALENDAR
VERSION:2.0
X-WR-CALNAME:PHIL 12 (A00) - Scientific Reasoning
METHOD:PUBLISH
BEGIN:VEVENT
ORGANIZER:
DTSTART:20260608T150000Z
DTEND:20260608T175900Z
LOCATION: TBA
UID:620260423T213434Z
DTSTAMP:20260423T213434Z
SUMMARY:PHIL 12 (A00) (FI)
DESCRIPTION:
PRIORITY:5
CLASS:PUBLIC
END:VEVENT
END:VCALENDAR