BEGIN:VCALENDAR
VERSION:2.0
X-WR-CALNAME:BENG 207 (B00) - Topics in Bioengineering
METHOD:PUBLISH
BEGIN:VEVENT
ORGANIZER:
DTSTART:20230616T150000Z
DTEND:20230616T175900Z
LOCATION: TBA
UID:220260424T001447Z
DTSTAMP:20260424T001447Z
SUMMARY:BENG 207 (B00) (FI)
DESCRIPTION:
PRIORITY:5
CLASS:PUBLIC
END:VEVENT
END:VCALENDAR