BEGIN:VCALENDAR
VERSION:2.0
X-WR-CALNAME:BIPN 108 (A00) - Biology and Med of Exercise
METHOD:PUBLISH
BEGIN:VEVENT
ORGANIZER:
DTSTART:20260317T150000Z
DTEND:20260317T175900Z
LOCATION: TBA
UID:620260424T001744Z
DTSTAMP:20260424T001744Z
SUMMARY:BIPN 108 (A00) (FI)
DESCRIPTION:
PRIORITY:5
CLASS:PUBLIC
END:VEVENT
END:VCALENDAR