BEGIN:VCALENDAR
VERSION:2.0
X-WR-CALNAME:BIMM 110 (A00) - Molecular Basis/Human Disease
METHOD:PUBLISH
BEGIN:VEVENT
ORGANIZER:
DTSTART:20260313T220000Z
DTEND:20260313T235000Z
LOCATION:COA 130
UID:620260423T234137Z
DTSTAMP:20260423T234137Z
SUMMARY:BIMM 110 (A00) (RE)
DESCRIPTION:
PRIORITY:5
CLASS:PUBLIC
END:VEVENT
BEGIN:VEVENT
ORGANIZER:
DTSTART:20260317T183000Z
DTEND:20260317T212900Z
LOCATION: TBA
UID:720260423T234137Z
DTSTAMP:20260423T234137Z
SUMMARY:BIMM 110 (A00) (FI)
DESCRIPTION:
PRIORITY:5
CLASS:PUBLIC
END:VEVENT
END:VCALENDAR