BEGIN:VCALENDAR
VERSION:2.0
X-WR-CALNAME:BILD 28 (A00) - Immunology/Vaccines
METHOD:PUBLISH
BEGIN:VEVENT
ORGANIZER:
DTSTART:20230613T220000Z
DTEND:20230614T005900Z
LOCATION: TBA
UID:620260424T000525Z
DTSTAMP:20260424T000525Z
SUMMARY:BILD 28 (A00) (FI)
DESCRIPTION:
PRIORITY:5
CLASS:PUBLIC
END:VEVENT
END:VCALENDAR