BEGIN:VCALENDAR
VERSION:2.0
X-WR-CALNAME:BILD 1 (B00) - The Cell
METHOD:PUBLISH
BEGIN:VEVENT
ORGANIZER:
DTSTART:20260127T020000Z
DTEND:20260127T035000Z
LOCATION:CENTR 212
UID:620260423T230815Z
DTSTAMP:20260423T230815Z
SUMMARY:BILD 1 (B00) (RE)
DESCRIPTION:
PRIORITY:5
CLASS:PUBLIC
END:VEVENT
BEGIN:VEVENT
ORGANIZER:
DTSTART:20260212T020000Z
DTEND:20260212T035000Z
LOCATION:HSS 1330
UID:720260423T230815Z
DTSTAMP:20260423T230815Z
SUMMARY:BILD 1 (B00) (RE)
DESCRIPTION:
PRIORITY:5
CLASS:PUBLIC
END:VEVENT
BEGIN:VEVENT
ORGANIZER:
DTSTART:20260226T020000Z
DTEND:20260226T035000Z
LOCATION:SOLIS 107
UID:820260423T230815Z
DTSTAMP:20260423T230815Z
SUMMARY:BILD 1 (B00) (RE)
DESCRIPTION:
PRIORITY:5
CLASS:PUBLIC
END:VEVENT
BEGIN:VEVENT
ORGANIZER:
DTSTART:20260313T010000Z
DTEND:20260313T035000Z
LOCATION:YORK 2622
UID:920260423T230815Z
DTSTAMP:20260423T230815Z
SUMMARY:BILD 1 (B00) (RE)
DESCRIPTION:
PRIORITY:5
CLASS:PUBLIC
END:VEVENT
BEGIN:VEVENT
ORGANIZER:
DTSTART:20260316T183000Z
DTEND:20260316T212900Z
LOCATION: TBA
UID:1020260423T230815Z
DTSTAMP:20260423T230815Z
SUMMARY:BILD 1 (B00) (FI)
DESCRIPTION:
PRIORITY:5
CLASS:PUBLIC
END:VEVENT
END:VCALENDAR