BEGIN:VCALENDAR
VERSION:2.0
X-WR-CALNAME:POLI 11D (A00) - Intro/Poli Sci:Compar Politics
METHOD:PUBLISH
BEGIN:VEVENT
ORGANIZER:
DTSTART:20230614T183000Z
DTEND:20230614T212900Z
LOCATION: TBA
UID:820260424T000114Z
DTSTAMP:20260424T000114Z
SUMMARY:POLI 11D (A00) (FI)
DESCRIPTION:
PRIORITY:5
CLASS:PUBLIC
END:VEVENT
END:VCALENDAR