BEGIN:VCALENDAR
VERSION:2.0
X-WR-CALNAME:PHYS 152A (A00) - Condensed Matter Physics
METHOD:PUBLISH
BEGIN:VEVENT
ORGANIZER:
DTSTART:20260319T220000Z
DTEND:20260320T005900Z
LOCATION: TBA
UID:320260423T231416Z
DTSTAMP:20260423T231416Z
SUMMARY:PHYS 152A (A00) (FI)
DESCRIPTION:
PRIORITY:5
CLASS:PUBLIC
END:VEVENT
END:VCALENDAR