BEGIN:VCALENDAR
VERSION:2.0
X-WR-CALNAME:LTWR 140 (A00) - History of Writing
METHOD:PUBLISH
BEGIN:VEVENT
ORGANIZER:
DTSTART:20260608T220000Z
DTEND:20260609T005900Z
LOCATION: TBA
UID:220260423T235554Z
DTSTAMP:20260423T235554Z
SUMMARY:LTWR 140 (A00) (FI)
DESCRIPTION:
PRIORITY:5
CLASS:PUBLIC
END:VEVENT
END:VCALENDAR