BEGIN:VCALENDAR
VERSION:2.0
X-WR-CALNAME:MATH 290C (A00) - Topology
METHOD:PUBLISH
BEGIN:VEVENT
ORGANIZER:
DTSTART:20230614T183000Z
DTEND:20230614T212900Z
LOCATION: TBA
UID:220260423T232748Z
DTSTAMP:20260423T232748Z
SUMMARY:MATH 290C (A00) (FI)
DESCRIPTION:
PRIORITY:5
CLASS:PUBLIC
END:VEVENT
END:VCALENDAR