BEGIN:VCALENDAR
VERSION:2.0
X-WR-CALNAME:MATH 202C (A00) - Applied Algebra III
METHOD:PUBLISH
BEGIN:VEVENT
ORGANIZER:
DTSTART:20230615T220000Z
DTEND:20230616T005900Z
LOCATION: TBA
UID:220260424T000315Z
DTSTAMP:20260424T000315Z
SUMMARY:MATH 202C (A00) (FI)
DESCRIPTION:
PRIORITY:5
CLASS:PUBLIC
END:VEVENT
END:VCALENDAR