BEGIN:VCALENDAR
VERSION:2.0
X-WR-CALNAME:MATS 201C (A00) - Phase Transformations
METHOD:PUBLISH
BEGIN:VEVENT
ORGANIZER:
DTSTART:20230612T220000Z
DTEND:20230613T005900Z
LOCATION: TBA
UID:220260423T222344Z
DTSTAMP:20260423T222344Z
SUMMARY:MATS 201C (A00) (FI)
DESCRIPTION:
PRIORITY:5
CLASS:PUBLIC
END:VEVENT
END:VCALENDAR