BEGIN:VCALENDAR
VERSION:2.0
X-WR-CALNAME:ETHN 289 (A00) - Topics/Ethnic Studies Research
METHOD:PUBLISH
BEGIN:VEVENT
ORGANIZER:
DTSTART:20230616T183000Z
DTEND:20230616T212900Z
LOCATION: TBA
UID:220260424T001841Z
DTSTAMP:20260424T001841Z
SUMMARY:ETHN 289 (A00) (FI)
DESCRIPTION:
PRIORITY:5
CLASS:PUBLIC
END:VEVENT
END:VCALENDAR