BEGIN:VCALENDAR
VERSION:2.0
X-WR-CALNAME:CHEM 41A (A00) - Organic I: Struct & React
METHOD:PUBLISH
BEGIN:VEVENT
ORGANIZER:
DTSTART:20260319T220000Z
DTEND:20260320T005900Z
LOCATION: TBA
UID:620260423T222540Z
DTSTAMP:20260423T222540Z
SUMMARY:CHEM 41A (A00) (FI)
DESCRIPTION:
PRIORITY:5
CLASS:PUBLIC
END:VEVENT
END:VCALENDAR