BEGIN:VCALENDAR
VERSION:2.0
X-WR-CALNAME:GSS 21 (A00) - AfricaHistory/Culture/Politics
METHOD:PUBLISH
BEGIN:VEVENT
ORGANIZER:
DTSTART:20260612T020000Z
DTEND:20260612T045900Z
LOCATION: TBA
UID:220260424T000910Z
DTSTAMP:20260424T000910Z
SUMMARY:GSS 21 (A00) (FI)
DESCRIPTION:
PRIORITY:5
CLASS:PUBLIC
END:VEVENT
END:VCALENDAR