BEGIN:VCALENDAR
VERSION:2.0
X-WR-CALNAME:ETHN 123 (A00) - Asian American Politics
METHOD:PUBLISH
BEGIN:VEVENT
ORGANIZER:
DTSTART:20230321T020000Z
DTEND:20230321T045900Z
LOCATION: TBA
UID:220260424T000614Z
DTSTAMP:20260424T000614Z
SUMMARY:ETHN 123 (A00) (FI)
DESCRIPTION:
PRIORITY:5
CLASS:PUBLIC
END:VEVENT
END:VCALENDAR